BEGIN:VCALENDAR
VERSION:2.0
PRODID:-//https://orthomedinc.com///NONSGML kigkonsult.se iCalcreator 2.10.15//
METHOD:PUBLISH
BEGIN:VEVENT
UID:20260422T230654MDT-3319pVNRl8@https://orthomedinc.com/
DTSTAMP:20260423T050654Z
DESCRIPTION:\nMeet OrthoMed Inc. @ AAOS 2026 Booth Number: TBD\nOur Exhibit
  Dates are 03/6 through 03/6\nAAOS 2026 will offer a reimagined experience
  powered by leaders in the field and innovative industry players.\n&nbsp\;
 \n&nbsp\; https://orthomedinc.com/about/events/event/5-aaos-2026
DTSTART:20260302T080000Z
DTEND:20260305T120000Z
LOCATION:New Orleans\, LA (900 Convention Center Blvd\, New Orleans\, LA 70
 130\, USA)
SUMMARY:AAOS 2026
URL:https://orthomedinc.com/about/events/event/5-aaos-2026
END:VEVENT
END:VCALENDAR
